BEGIN:VCALENDAR
VERSION:2.0
PRODID:-//spbstu.ru//ical//RU
NAME:Расписание
X-WR-CALNAME:Расписание
TIMEZONE-ID:Europe/Moscow
X-WR-TIMEZONE:Europe/Moscow
BEGIN:VEVENT
UID:60ok@192.168.245.71:3006
SEQUENCE:0
DTSTAMP:20260421T065748Z
DTSTART:20260325T090000Z
DTEND:20260325T104000Z
SUMMARY:Режимы ПТУ
LOCATION:ГЗ 226
END:VEVENT
BEGIN:VEVENT
UID:c1nz@192.168.245.71:3006
SEQUENCE:0
DTSTAMP:20260421T065748Z
DTSTART:20260325T110000Z
DTEND:20260325T124000Z
SUMMARY:Режимы ПТУ
LOCATION:ГЗ 215
END:VEVENT
BEGIN:VEVENT
UID:dhue@192.168.245.71:3006
SEQUENCE:0
DTSTAMP:20260421T065748Z
DTSTART:20260325T130000Z
DTEND:20260325T144000Z
SUMMARY:Режимы ПТУ
LOCATION:ГЗ 244
END:VEVENT
END:VCALENDAR