BEGIN:VCALENDAR
VERSION:2.0
PRODID:-//spbstu.ru//ical//RU
NAME:Расписание
X-WR-CALNAME:Расписание
TIMEZONE-ID:Europe/Moscow
X-WR-TIMEZONE:Europe/Moscow
BEGIN:VEVENT
UID:9rjw@192.168.245.71:3006
SEQUENCE:0
DTSTAMP:20260421T070452Z
DTSTART:20260527T070000Z
DTEND:20260527T110000Z
SUMMARY:Режимы ПТУ
LOCATION:ТВН ВШАиТЭ уч.ауд.№303
END:VEVENT
BEGIN:VEVENT
UID:xh56@192.168.245.71:3006
SEQUENCE:0
DTSTAMP:20260421T070452Z
DTSTART:20260527T110000Z
DTEND:20260527T150000Z
SUMMARY:Режимы ПТУ
LOCATION:ТВН ВШАиТЭ уч.ауд.№303
END:VEVENT
END:VCALENDAR