BEGIN:VCALENDAR
VERSION:2.0
PRODID:-//spbstu.ru//ical//RU
NAME:Расписание
X-WR-CALNAME:Расписание
TIMEZONE-ID:Europe/Moscow
X-WR-TIMEZONE:Europe/Moscow
BEGIN:VEVENT
UID:wwhe@192.168.245.71:3006
SEQUENCE:0
DTSTAMP:20260424T143941Z
DTSTART:20251103T090000Z
DTEND:20251103T104000Z
SUMMARY:Основы технологии электронной компонентной базы
LOCATION:2 к. 209
END:VEVENT
BEGIN:VEVENT
UID:molj@192.168.245.71:3006
SEQUENCE:0
DTSTAMP:20260424T143941Z
DTSTART:20251103T110000Z
DTEND:20251103T124000Z
SUMMARY:Основы технологии электронной-компонентной базы
LOCATION:НИК В2.02
END:VEVENT
BEGIN:VEVENT
UID:q7pj@192.168.245.71:3006
SEQUENCE:0
DTSTAMP:20260424T143941Z
DTSTART:20251103T110000Z
DTEND:20251103T124000Z
SUMMARY:Основы технологии электронной компонентной базы
LOCATION:НИК В2.02
END:VEVENT
BEGIN:VEVENT
UID:xfnl@192.168.245.71:3006
SEQUENCE:0
DTSTAMP:20260424T143941Z
DTSTART:20251103T110000Z
DTEND:20251103T124000Z
SUMMARY:Физические основы нанотехнологии смарт-материалов
LOCATION:НИК В2.02
END:VEVENT
BEGIN:VEVENT
UID:3fxk@192.168.245.71:3006
SEQUENCE:0
DTSTAMP:20260424T143941Z
DTSTART:20251107T070000Z
DTEND:20251107T084000Z
SUMMARY:Основы технологии электронной компонентной базы
LOCATION:2 к. 213
END:VEVENT
BEGIN:VEVENT
UID:nbvf@192.168.245.71:3006
SEQUENCE:0
DTSTAMP:20260424T143941Z
DTSTART:20251107T090000Z
DTEND:20251107T104000Z
SUMMARY:Основы технологии электронной компонентной базы
LOCATION:2 к. 459
END:VEVENT
BEGIN:VEVENT
UID:obos@192.168.245.71:3006
SEQUENCE:0
DTSTAMP:20260424T143941Z
DTSTART:20251107T110000Z
DTEND:20251107T124000Z
SUMMARY:Интегральная и волоконная оптика
LOCATION:2 к. 214
END:VEVENT
END:VCALENDAR