BEGIN:VCALENDAR
VERSION:2.0
PRODID:-//spbstu.ru//ical//RU
NAME:Расписание
X-WR-CALNAME:Расписание
TIMEZONE-ID:Europe/Moscow
X-WR-TIMEZONE:Europe/Moscow
BEGIN:VEVENT
UID:q896@192.168.245.71:3006
SEQUENCE:0
DTSTAMP:20260423T075938Z
DTSTART:20251215T090000Z
DTEND:20251215T104000Z
SUMMARY:Основы технологии электронной компонентной базы
LOCATION:2 к. 209
END:VEVENT
BEGIN:VEVENT
UID:gjja@192.168.245.71:3006
SEQUENCE:0
DTSTAMP:20260423T075938Z
DTSTART:20251215T110000Z
DTEND:20251215T124000Z
SUMMARY:Основы технологии электронной компонентной базы
LOCATION:НИК В2.02
END:VEVENT
BEGIN:VEVENT
UID:pd7v@192.168.245.71:3006
SEQUENCE:0
DTSTAMP:20260423T075938Z
DTSTART:20251215T110000Z
DTEND:20251215T124000Z
SUMMARY:Физические основы нанотехнологии смарт-материалов
LOCATION:НИК В2.02
END:VEVENT
BEGIN:VEVENT
UID:xnim@192.168.245.71:3006
SEQUENCE:0
DTSTAMP:20260423T075938Z
DTSTART:20251218T070000Z
DTEND:20251218T083000Z
SUMMARY:Основы технологии электронной компонентной базы
LOCATION:2 к. 209
END:VEVENT
BEGIN:VEVENT
UID:s5nu@192.168.245.71:3006
SEQUENCE:0
DTSTAMP:20260423T075938Z
DTSTART:20251218T150000Z
DTEND:20251218T164000Z
SUMMARY:Основы технологии электронной-компонентной базы
LOCATION:50 уч.к 1422
END:VEVENT
BEGIN:VEVENT
UID:7oxh@192.168.245.71:3006
SEQUENCE:0
DTSTAMP:20260423T075938Z
DTSTART:20251219T070000Z
DTEND:20251219T100000Z
SUMMARY:Основы технологии электронной компонентной базы
LOCATION:2 к. 209
END:VEVENT
END:VCALENDAR