BEGIN:VCALENDAR
VERSION:2.0
PRODID:-//spbstu.ru//ical//RU
NAME:Расписание
X-WR-CALNAME:Расписание
TIMEZONE-ID:Europe/Moscow
X-WR-TIMEZONE:Europe/Moscow
BEGIN:VEVENT
UID:uc47@192.168.245.71:3006
SEQUENCE:0
DTSTAMP:20260422T081440Z
DTSTART:20260218T070000Z
DTEND:20260218T084000Z
SUMMARY:Семинар по проблемам оптической связи
LOCATION:2 к. 213
END:VEVENT
BEGIN:VEVENT
UID:izf0@192.168.245.71:3006
SEQUENCE:0
DTSTAMP:20260422T081440Z
DTSTART:20260218T110000Z
DTEND:20260218T124000Z
SUMMARY:Физические основы технологии электронной компонентной базы
LOCATION:DL Дистанционно
END:VEVENT
END:VCALENDAR