BEGIN:VCALENDAR
VERSION:2.0
PRODID:-//spbstu.ru//ical//RU
NAME:Расписание
X-WR-CALNAME:Расписание
TIMEZONE-ID:Europe/Moscow
X-WR-TIMEZONE:Europe/Moscow
BEGIN:VEVENT
UID:ily3@192.168.245.71:3006
SEQUENCE:0
DTSTAMP:20260423T033051Z
DTSTART:20251017T050000Z
DTEND:20251017T064000Z
SUMMARY:Технологии программирования
LOCATION:ГЗ 105
END:VEVENT
BEGIN:VEVENT
UID:uq7c@192.168.245.71:3006
SEQUENCE:0
DTSTAMP:20260423T033051Z
DTSTART:20251017T070000Z
DTEND:20251017T084000Z
SUMMARY:Технологии программирования
LOCATION:ГЗ 105
END:VEVENT
END:VCALENDAR