BEGIN:VCALENDAR
VERSION:2.0
PRODID:-//spbstu.ru//ical//RU
NAME:Расписание
X-WR-CALNAME:Расписание
TIMEZONE-ID:Europe/Moscow
X-WR-TIMEZONE:Europe/Moscow
BEGIN:VEVENT
UID:nkk6@192.168.245.71:3006
SEQUENCE:0
DTSTAMP:20260423T050147Z
DTSTART:20251001T090000Z
DTEND:20251001T104000Z
SUMMARY:Технологии программирования
LOCATION:ГЗ 105
END:VEVENT
BEGIN:VEVENT
UID:78jd@192.168.245.71:3006
SEQUENCE:0
DTSTAMP:20260423T050147Z
DTSTART:20251003T050000Z
DTEND:20251003T064000Z
SUMMARY:Технологии программирования
LOCATION:ГЗ 105
END:VEVENT
BEGIN:VEVENT
UID:eor6@192.168.245.71:3006
SEQUENCE:0
DTSTAMP:20260423T050147Z
DTSTART:20251003T070000Z
DTEND:20251003T084000Z
SUMMARY:Технологии программирования
LOCATION:ГЗ 105
END:VEVENT
END:VCALENDAR