BEGIN:VCALENDAR
VERSION:2.0
PRODID:-//spbstu.ru//ical//RU
NAME:Расписание
X-WR-CALNAME:Расписание
TIMEZONE-ID:Europe/Moscow
X-WR-TIMEZONE:Europe/Moscow
BEGIN:VEVENT
UID:5tbs@192.168.245.71:3006
SEQUENCE:0
DTSTAMP:20260422T042802Z
DTSTART:20251022T090000Z
DTEND:20251022T103000Z
SUMMARY:Иностранный язык: Русский язык как иностранный
LOCATION:15 к. 305
END:VEVENT
BEGIN:VEVENT
UID:gzlj@192.168.245.71:3006
SEQUENCE:0
DTSTAMP:20260422T042802Z
DTSTART:20251022T110000Z
DTEND:20251022T123000Z
SUMMARY:Иностранный язык: Русский язык как иностранный
LOCATION:15 к. 305
END:VEVENT
BEGIN:VEVENT
UID:8ahp@192.168.245.71:3006
SEQUENCE:0
DTSTAMP:20260422T042802Z
DTSTART:20251025T110000Z
DTEND:20251025T123000Z
SUMMARY:Русский язык в профессиональной сфере
LOCATION:15 к. 305
END:VEVENT
BEGIN:VEVENT
UID:p5nj@192.168.245.71:3006
SEQUENCE:0
DTSTAMP:20260422T042802Z
DTSTART:20251025T130000Z
DTEND:20251025T143000Z
SUMMARY:Русский язык в профессиональной сфере
LOCATION:15 к. 305
END:VEVENT
BEGIN:VEVENT
UID:cytd@192.168.245.71:3006
SEQUENCE:0
DTSTAMP:20260422T042802Z
DTSTART:20251025T150000Z
DTEND:20251025T163000Z
SUMMARY:Русский язык в профессиональной сфере
LOCATION:15 к. 305
END:VEVENT
END:VCALENDAR