BEGIN:VCALENDAR
VERSION:2.0
PRODID:-//spbstu.ru//ical//RU
NAME:Расписание
X-WR-CALNAME:Расписание
TIMEZONE-ID:Europe/Moscow
X-WR-TIMEZONE:Europe/Moscow
BEGIN:VEVENT
UID:7j3u@192.168.245.71:3006
SEQUENCE:0
DTSTAMP:20260422T221719Z
DTSTART:20250917T090000Z
DTEND:20250917T103000Z
SUMMARY:Иностранный язык: Русский язык как иностранный
LOCATION:15 к. 305
END:VEVENT
BEGIN:VEVENT
UID:ne8h@192.168.245.71:3006
SEQUENCE:0
DTSTAMP:20260422T221719Z
DTSTART:20250917T110000Z
DTEND:20250917T123000Z
SUMMARY:Иностранный язык: Русский язык как иностранный
LOCATION:15 к. 305
END:VEVENT
BEGIN:VEVENT
UID:5zem@192.168.245.71:3006
SEQUENCE:0
DTSTAMP:20260422T221719Z
DTSTART:20250920T110000Z
DTEND:20250920T123000Z
SUMMARY:Русский язык в профессиональной сфере
LOCATION:15 к. 305
END:VEVENT
BEGIN:VEVENT
UID:4p9i@192.168.245.71:3006
SEQUENCE:0
DTSTAMP:20260422T221719Z
DTSTART:20250920T130000Z
DTEND:20250920T143000Z
SUMMARY:Русский язык в профессиональной сфере
LOCATION:15 к. 305
END:VEVENT
BEGIN:VEVENT
UID:hzm1@192.168.245.71:3006
SEQUENCE:0
DTSTAMP:20260422T221719Z
DTSTART:20250920T150000Z
DTEND:20250920T163000Z
SUMMARY:Русский язык в профессиональной сфере
LOCATION:15 к. 305
END:VEVENT
END:VCALENDAR