BEGIN:VCALENDAR
VERSION:2.0
PRODID:-//spbstu.ru//ical//RU
NAME:Расписание
X-WR-CALNAME:Расписание
TIMEZONE-ID:Europe/Moscow
X-WR-TIMEZONE:Europe/Moscow
BEGIN:VEVENT
UID:pq5i@192.168.245.71:3006
SEQUENCE:0
DTSTAMP:20260421T192403Z
DTSTART:20260203T110000Z
DTEND:20260203T124000Z
SUMMARY:Динамика и прочность энергетических машин
LOCATION:НИК А2.22
END:VEVENT
BEGIN:VEVENT
UID:e23e@192.168.245.71:3006
SEQUENCE:0
DTSTAMP:20260421T192403Z
DTSTART:20260205T090000Z
DTEND:20260205T104000Z
SUMMARY:Динамика и прочность энергетических машин
LOCATION:НИК А2.22
END:VEVENT
BEGIN:VEVENT
UID:uxna@192.168.245.71:3006
SEQUENCE:0
DTSTAMP:20260421T192403Z
DTSTART:20260205T110000Z
DTEND:20260205T124000Z
SUMMARY:Теория надежности энергетических машин
LOCATION:НИК А2.22
END:VEVENT
END:VCALENDAR