BEGIN:VCALENDAR
VERSION:2.0
PRODID:-//spbstu.ru//ical//RU
NAME:Расписание
X-WR-CALNAME:Расписание
TIMEZONE-ID:Europe/Moscow
X-WR-TIMEZONE:Europe/Moscow
BEGIN:VEVENT
UID:adf3@192.168.245.71:3006
SEQUENCE:0
DTSTAMP:20260421T110152Z
DTSTART:20260504T090000Z
DTEND:20260504T104000Z
SUMMARY:Математика и статистика
LOCATION:9 к. 333
END:VEVENT
BEGIN:VEVENT
UID:7rsp@192.168.245.71:3006
SEQUENCE:0
DTSTAMP:20260421T110152Z
DTSTART:20260504T110000Z
DTEND:20260504T124000Z
SUMMARY:Математика и статистика
LOCATION:9 к. 216
END:VEVENT
BEGIN:VEVENT
UID:vor3@192.168.245.71:3006
SEQUENCE:0
DTSTAMP:20260421T110152Z
DTSTART:20260505T110000Z
DTEND:20260505T124000Z
SUMMARY:Математика и статистика
LOCATION:9 к. 212
END:VEVENT
BEGIN:VEVENT
UID:0iaq@192.168.245.71:3006
SEQUENCE:0
DTSTAMP:20260421T110152Z
DTSTART:20260508T070000Z
DTEND:20260508T084000Z
SUMMARY:Математика и статистика
LOCATION:9 к. 325
END:VEVENT
BEGIN:VEVENT
UID:5o3s@192.168.245.71:3006
SEQUENCE:0
DTSTAMP:20260421T110152Z
DTSTART:20260508T090000Z
DTEND:20260508T104000Z
SUMMARY:Математика и статистика
LOCATION:9 к. 325
END:VEVENT
END:VCALENDAR