BEGIN:VCALENDAR
VERSION:2.0
PRODID:-//spbstu.ru//ical//RU
NAME:Расписание
X-WR-CALNAME:Расписание
TIMEZONE-ID:Europe/Moscow
X-WR-TIMEZONE:Europe/Moscow
BEGIN:VEVENT
UID:v7p0@192.168.245.71:3006
SEQUENCE:0
DTSTAMP:20260422T101054Z
DTSTART:20260305T110000Z
DTEND:20260305T124000Z
SUMMARY:Структурная микромеханика
LOCATION:2 к. 459
END:VEVENT
BEGIN:VEVENT
UID:co3q@192.168.245.71:3006
SEQUENCE:0
DTSTAMP:20260422T101054Z
DTSTART:20260305T130000Z
DTEND:20260305T135000Z
SUMMARY:Структурная микромеханика
LOCATION:2 к. 459
END:VEVENT
END:VCALENDAR