BEGIN:VCALENDAR
VERSION:2.0
PRODID:-//spbstu.ru//ical//RU
NAME:Расписание
X-WR-CALNAME:Расписание
TIMEZONE-ID:Europe/Moscow
X-WR-TIMEZONE:Europe/Moscow
BEGIN:VEVENT
UID:ofan@192.168.245.71:3006
SEQUENCE:0
DTSTAMP:20260424T234137Z
DTSTART:20250909T060000Z
DTEND:20250909T084000Z
SUMMARY:Алгоритмизация и программирование
LOCATION:3 к. 404а
END:VEVENT
BEGIN:VEVENT
UID:p3jw@192.168.245.71:3006
SEQUENCE:0
DTSTAMP:20260424T234137Z
DTSTART:20250909T110000Z
DTEND:20250909T124000Z
SUMMARY:Алгоритмизация и программирование
LOCATION:3 к. 505
END:VEVENT
BEGIN:VEVENT
UID:nfoq@192.168.245.71:3006
SEQUENCE:0
DTSTAMP:20260424T234137Z
DTSTART:20250909T130000Z
DTEND:20250909T144000Z
SUMMARY:Алгоритмизация и программирование
LOCATION:3 к. 505
END:VEVENT
END:VCALENDAR