BEGIN:VCALENDAR
VERSION:2.0
PRODID:-//spbstu.ru//ical//RU
NAME:Расписание
X-WR-CALNAME:Расписание
TIMEZONE-ID:Europe/Moscow
X-WR-TIMEZONE:Europe/Moscow
BEGIN:VEVENT
UID:y4o9@192.168.245.71:3006
SEQUENCE:0
DTSTAMP:20260421T152205Z
DTSTART:20260408T110000Z
DTEND:20260408T124000Z
SUMMARY:История государства и права России и зарубежных стран
LOCATION:ГЗ 138
END:VEVENT
BEGIN:VEVENT
UID:pwxf@192.168.245.71:3006
SEQUENCE:0
DTSTAMP:20260421T152205Z
DTSTART:20260408T130000Z
DTEND:20260408T144000Z
SUMMARY:История государства и права России и зарубежных стран
LOCATION:ГЗ 138
END:VEVENT
BEGIN:VEVENT
UID:23oy@192.168.245.71:3006
SEQUENCE:0
DTSTAMP:20260421T152205Z
DTSTART:20260408T153000Z
DTEND:20260408T170000Z
SUMMARY:История государства и права России и зарубежных стран
LOCATION:9 к. 133
END:VEVENT
END:VCALENDAR