BEGIN:VCALENDAR
VERSION:2.0
PRODID:-//spbstu.ru//ical//RU
NAME:Расписание
X-WR-CALNAME:Расписание
TIMEZONE-ID:Europe/Moscow
X-WR-TIMEZONE:Europe/Moscow
BEGIN:VEVENT
UID:cfct@192.168.245.71:3006
SEQUENCE:0
DTSTAMP:20260422T014125Z
DTSTART:20260520T090000Z
DTEND:20260520T104000Z
SUMMARY:История государства и права России и зарубежных стран
LOCATION:9 к. 212
END:VEVENT
BEGIN:VEVENT
UID:hcsj@192.168.245.71:3006
SEQUENCE:0
DTSTAMP:20260422T014125Z
DTSTART:20260520T110000Z
DTEND:20260520T124000Z
SUMMARY:История государства и права России и зарубежных стран
LOCATION:ГЗ 138
END:VEVENT
BEGIN:VEVENT
UID:994a@192.168.245.71:3006
SEQUENCE:0
DTSTAMP:20260422T014125Z
DTSTART:20260520T130000Z
DTEND:20260520T144000Z
SUMMARY:История государства и права России и зарубежных стран
LOCATION:ГЗ 138
END:VEVENT
BEGIN:VEVENT
UID:x76p@192.168.245.71:3006
SEQUENCE:0
DTSTAMP:20260422T014125Z
DTSTART:20260520T153000Z
DTEND:20260520T170000Z
SUMMARY:История государства и права России и зарубежных стран
LOCATION:9 к. 133
END:VEVENT
END:VCALENDAR