BEGIN:VCALENDAR
VERSION:2.0
PRODID:-//spbstu.ru//ical//RU
NAME:Расписание
X-WR-CALNAME:Расписание
TIMEZONE-ID:Europe/Moscow
X-WR-TIMEZONE:Europe/Moscow
BEGIN:VEVENT
UID:lf2g@192.168.245.71:3006
SEQUENCE:0
DTSTAMP:20260424T164618Z
DTSTART:20251021T090000Z
DTEND:20251021T104000Z
SUMMARY:Теория автоматического управления
LOCATION:DL Дистанционно
END:VEVENT
BEGIN:VEVENT
UID:shks@192.168.245.71:3006
SEQUENCE:0
DTSTAMP:20260424T164618Z
DTSTART:20251021T110000Z
DTEND:20251021T124000Z
SUMMARY:Теория автоматического управления
LOCATION:DL Дистанционно
END:VEVENT
END:VCALENDAR