BEGIN:VCALENDAR
VERSION:2.0
PRODID:-//spbstu.ru//ical//RU
NAME:Расписание
X-WR-CALNAME:Расписание
TIMEZONE-ID:Europe/Moscow
X-WR-TIMEZONE:Europe/Moscow
BEGIN:VEVENT
UID:11jl@192.168.245.71:3006
SEQUENCE:0
DTSTAMP:20260423T075913Z
DTSTART:20251229T070000Z
DTEND:20251229T094000Z
SUMMARY:Теория автоматического управления
LOCATION:16 к. 309
END:VEVENT
BEGIN:VEVENT
UID:anfi@192.168.245.71:3006
SEQUENCE:0
DTSTAMP:20260423T075913Z
DTSTART:20251229T100000Z
DTEND:20251229T124000Z
SUMMARY:Теория автоматического управления
LOCATION:16 к. 309
END:VEVENT
BEGIN:VEVENT
UID:4ge7@192.168.245.71:3006
SEQUENCE:0
DTSTAMP:20260423T075913Z
DTSTART:20251229T130000Z
DTEND:20251229T154000Z
SUMMARY:Теория автоматического управления
LOCATION:16 к. 309
END:VEVENT
END:VCALENDAR