BEGIN:VCALENDAR
VERSION:2.0
PRODID:-//spbstu.ru//ical//RU
NAME:Расписание
X-WR-CALNAME:Расписание
TIMEZONE-ID:Europe/Moscow
X-WR-TIMEZONE:Europe/Moscow
BEGIN:VEVENT
UID:zw0j@192.168.245.71:3006
SEQUENCE:0
DTSTAMP:20260420T230721Z
DTSTART:20260427T110000Z
DTEND:20260427T124000Z
SUMMARY:Электрические станции и подстанции
LOCATION:ГЗ 253
END:VEVENT
BEGIN:VEVENT
UID:qns5@192.168.245.71:3006
SEQUENCE:0
DTSTAMP:20260420T230721Z
DTSTART:20260428T070000Z
DTEND:20260428T084000Z
SUMMARY:Релейная защита и автоматизация электроэнергетических систем
LOCATION:ГЗ 253
END:VEVENT
BEGIN:VEVENT
UID:pqeg@192.168.245.71:3006
SEQUENCE:0
DTSTAMP:20260420T230721Z
DTSTART:20260428T090000Z
DTEND:20260428T104000Z
SUMMARY:Противоаварийная автоматика
LOCATION:5 к. 304
END:VEVENT
END:VCALENDAR