BEGIN:VCALENDAR
VERSION:2.0
PRODID:-//spbstu.ru//ical//RU
NAME:Расписание
X-WR-CALNAME:Расписание
TIMEZONE-ID:Europe/Moscow
X-WR-TIMEZONE:Europe/Moscow
BEGIN:VEVENT
UID:dx4b@192.168.245.71:3006
SEQUENCE:0
DTSTAMP:20260423T024643Z
DTSTART:20260112T110000Z
DTEND:20260112T124000Z
SUMMARY:Релейная защита электроэнергетических систем
LOCATION:5 к. 208
END:VEVENT
BEGIN:VEVENT
UID:f860@192.168.245.71:3006
SEQUENCE:0
DTSTAMP:20260423T024643Z
DTSTART:20260112T110000Z
DTEND:20260112T124000Z
SUMMARY:Релейная защита электроэнергетических систем
LOCATION:5 к. 208
END:VEVENT
BEGIN:VEVENT
UID:tqpx@192.168.245.71:3006
SEQUENCE:0
DTSTAMP:20260423T024643Z
DTSTART:20260112T130000Z
DTEND:20260112T144000Z
SUMMARY:Релейная защита электроэнергетических систем
LOCATION:5 к. 208
END:VEVENT
BEGIN:VEVENT
UID:r8jt@192.168.245.71:3006
SEQUENCE:0
DTSTAMP:20260423T024643Z
DTSTART:20260112T130000Z
DTEND:20260112T144000Z
SUMMARY:Релейная защита электроэнергетических систем
LOCATION:5 к. 208
END:VEVENT
BEGIN:VEVENT
UID:fk7r@192.168.245.71:3006
SEQUENCE:0
DTSTAMP:20260423T024643Z
DTSTART:20260114T070000Z
DTEND:20260114T084000Z
SUMMARY:Основы построения систем релейной защиты и автоматики электроэнерг
 етических объектов
LOCATION:5 к. 305
END:VEVENT
BEGIN:VEVENT
UID:qe1p@192.168.245.71:3006
SEQUENCE:0
DTSTAMP:20260423T024643Z
DTSTART:20260114T090000Z
DTEND:20260114T124000Z
SUMMARY:Основы построения систем релейной защиты и автоматики электроэнерг
 етических объектов
LOCATION:5 к. 305
END:VEVENT
BEGIN:VEVENT
UID:3hzm@192.168.245.71:3006
SEQUENCE:0
DTSTAMP:20260423T024643Z
DTSTART:20260114T130000Z
DTEND:20260114T144000Z
SUMMARY:Введение в профессиональную деятельность
LOCATION:5 к. 305
END:VEVENT
BEGIN:VEVENT
UID:la57@192.168.245.71:3006
SEQUENCE:0
DTSTAMP:20260423T024643Z
DTSTART:20260115T070000Z
DTEND:20260115T080000Z
SUMMARY:Релейная защита электроэнергетических систем
LOCATION:5 к. 305
END:VEVENT
BEGIN:VEVENT
UID:7y5v@192.168.245.71:3006
SEQUENCE:0
DTSTAMP:20260423T024643Z
DTSTART:20260115T090000Z
DTEND:20260115T100000Z
SUMMARY:Релейная защита электроэнергетических систем
LOCATION:5 к. 305
END:VEVENT
BEGIN:VEVENT
UID:qus6@192.168.245.71:3006
SEQUENCE:0
DTSTAMP:20260423T024643Z
DTSTART:20260116T070000Z
DTEND:20260116T130000Z
SUMMARY:Релейная защита электроэнергетических систем
LOCATION:5 к. 305
END:VEVENT
BEGIN:VEVENT
UID:79vg@192.168.245.71:3006
SEQUENCE:0
DTSTAMP:20260423T024643Z
DTSTART:20260117T070000Z
DTEND:20260117T130000Z
SUMMARY:Релейная защита электроэнергетических систем
LOCATION:5 к. 305
END:VEVENT
END:VCALENDAR