BEGIN:VCALENDAR
VERSION:2.0
PRODID:-//spbstu.ru//ical//RU
NAME:Расписание
X-WR-CALNAME:Расписание
TIMEZONE-ID:Europe/Moscow
X-WR-TIMEZONE:Europe/Moscow
BEGIN:VEVENT
UID:q736@192.168.245.71:3006
SEQUENCE:0
DTSTAMP:20260422T154606Z
DTSTART:20260126T070000Z
DTEND:20260126T124000Z
SUMMARY:Релейная защита электроэнергетических систем
LOCATION:5 к. 305
END:VEVENT
BEGIN:VEVENT
UID:0083@192.168.245.71:3006
SEQUENCE:0
DTSTAMP:20260422T154606Z
DTSTART:20260127T070000Z
DTEND:20260127T084000Z
SUMMARY:Релейная защита электроэнергетических систем
LOCATION:5 к. 304
END:VEVENT
BEGIN:VEVENT
UID:9pvd@192.168.245.71:3006
SEQUENCE:0
DTSTAMP:20260422T154606Z
DTSTART:20260127T090000Z
DTEND:20260127T144000Z
SUMMARY:Релейная защита электроэнергетических систем
LOCATION:5 к. 304
END:VEVENT
BEGIN:VEVENT
UID:y9cj@192.168.245.71:3006
SEQUENCE:0
DTSTAMP:20260422T154606Z
DTSTART:20260127T130000Z
DTEND:20260127T144000Z
SUMMARY:Образовательный форсайт
LOCATION:5 к. 305
END:VEVENT
BEGIN:VEVENT
UID:hdae@192.168.245.71:3006
SEQUENCE:0
DTSTAMP:20260422T154606Z
DTSTART:20260127T130000Z
DTEND:20260127T144000Z
SUMMARY:Образовательный форсайт
LOCATION:5 к. 305
END:VEVENT
BEGIN:VEVENT
UID:ea63@192.168.245.71:3006
SEQUENCE:0
DTSTAMP:20260422T154606Z
DTSTART:20260128T110000Z
DTEND:20260128T124000Z
SUMMARY:Релейная защита электроэнергетических систем
LOCATION:5 к. 304
END:VEVENT
BEGIN:VEVENT
UID:jyvx@192.168.245.71:3006
SEQUENCE:0
DTSTAMP:20260422T154606Z
DTSTART:20260128T110000Z
DTEND:20260128T124000Z
SUMMARY:Релейная защита электроэнергетических систем
LOCATION:5 к. 304
END:VEVENT
BEGIN:VEVENT
UID:wy8i@192.168.245.71:3006
SEQUENCE:0
DTSTAMP:20260422T154606Z
DTSTART:20260129T070000Z
DTEND:20260129T084000Z
SUMMARY:Проектирование релейной защиты и противоаварийной автоматики
LOCATION:5 к. 305
END:VEVENT
BEGIN:VEVENT
UID:eivh@192.168.245.71:3006
SEQUENCE:0
DTSTAMP:20260422T154606Z
DTSTART:20260129T090000Z
DTEND:20260129T104000Z
SUMMARY:Проектирование релейной защиты и противоаварийной автоматики
LOCATION:5 к. 305
END:VEVENT
BEGIN:VEVENT
UID:cvsv@192.168.245.71:3006
SEQUENCE:0
DTSTAMP:20260422T154606Z
DTSTART:20260130T070000Z
DTEND:20260130T084000Z
SUMMARY:Проектирование релейной защиты и противоаварийной автоматики
LOCATION:5 к. 208
END:VEVENT
BEGIN:VEVENT
UID:d9bs@192.168.245.71:3006
SEQUENCE:0
DTSTAMP:20260422T154606Z
DTSTART:20260130T090000Z
DTEND:20260130T104000Z
SUMMARY:Релейная защита электроэнергетических систем
LOCATION:5 к. 208
END:VEVENT
END:VCALENDAR