BEGIN:VCALENDAR
VERSION:2.0
PRODID:-//spbstu.ru//ical//RU
NAME:Расписание
X-WR-CALNAME:Расписание
TIMEZONE-ID:Europe/Moscow
X-WR-TIMEZONE:Europe/Moscow
BEGIN:VEVENT
UID:b924@192.168.245.71:3006
SEQUENCE:0
DTSTAMP:20260422T181157Z
DTSTART:20251216T070000Z
DTEND:20251216T084000Z
SUMMARY:Основы построения защищенных баз данных
LOCATION:11 к. 326
END:VEVENT
END:VCALENDAR