BEGIN:VCALENDAR
VERSION:2.0
PRODID:-//spbstu.ru//ical//RU
NAME:Расписание
X-WR-CALNAME:Расписание
TIMEZONE-ID:Europe/Moscow
X-WR-TIMEZONE:Europe/Moscow
BEGIN:VEVENT
UID:02e3@192.168.245.71:3006
SEQUENCE:0
DTSTAMP:20260421T224526Z
DTSTART:20260210T070000Z
DTEND:20260210T084000Z
SUMMARY:Системы управления базами данных
LOCATION:3 к. 309
END:VEVENT
BEGIN:VEVENT
UID:i2xd@192.168.245.71:3006
SEQUENCE:0
DTSTAMP:20260421T224526Z
DTSTART:20260210T090000Z
DTEND:20260210T104000Z
SUMMARY:Системы управления базами данных
LOCATION:3 к. 309
END:VEVENT
BEGIN:VEVENT
UID:rlay@192.168.245.71:3006
SEQUENCE:0
DTSTAMP:20260421T224526Z
DTSTART:20260210T110000Z
DTEND:20260210T124000Z
SUMMARY:Системы управления базами данных
LOCATION:11 к. 315
END:VEVENT
BEGIN:VEVENT
UID:6ll8@192.168.245.71:3006
SEQUENCE:0
DTSTAMP:20260421T224526Z
DTSTART:20260210T130000Z
DTEND:20260210T144000Z
SUMMARY:Математическая логика и теория алгоритмов
LOCATION:3 к. 307
END:VEVENT
BEGIN:VEVENT
UID:04i6@192.168.245.71:3006
SEQUENCE:0
DTSTAMP:20260421T224526Z
DTSTART:20260212T070000Z
DTEND:20260212T084000Z
SUMMARY:Системы управления базами данных
LOCATION:ГЗ 175
END:VEVENT
BEGIN:VEVENT
UID:ce0d@192.168.245.71:3006
SEQUENCE:0
DTSTAMP:20260421T224526Z
DTSTART:20260212T090000Z
DTEND:20260212T104000Z
SUMMARY:Системы управления базами данных
LOCATION:ГЗ 175
END:VEVENT
BEGIN:VEVENT
UID:bcn9@192.168.245.71:3006
SEQUENCE:0
DTSTAMP:20260421T224526Z
DTSTART:20260212T110000Z
DTEND:20260212T124000Z
SUMMARY:Системы управления базами данных
LOCATION:ГЗ 175
END:VEVENT
BEGIN:VEVENT
UID:pmt9@192.168.245.71:3006
SEQUENCE:0
DTSTAMP:20260421T224526Z
DTSTART:20260212T130000Z
DTEND:20260212T144000Z
SUMMARY:Системы управления базами данных
LOCATION:ГЗ 175
END:VEVENT
END:VCALENDAR