BEGIN:VCALENDAR
VERSION:2.0
PRODID:-//spbstu.ru//ical//RU
NAME:Расписание
X-WR-CALNAME:Расписание
TIMEZONE-ID:Europe/Moscow
X-WR-TIMEZONE:Europe/Moscow
BEGIN:VEVENT
UID:6xvd@192.168.245.71:3006
SEQUENCE:0
DTSTAMP:20260421T035240Z
DTSTART:20260331T070000Z
DTEND:20260331T084000Z
SUMMARY:Системы управления базами данных
LOCATION:3 к. 309
END:VEVENT
BEGIN:VEVENT
UID:34eg@192.168.245.71:3006
SEQUENCE:0
DTSTAMP:20260421T035240Z
DTSTART:20260331T090000Z
DTEND:20260331T104000Z
SUMMARY:Системы управления базами данных
LOCATION:3 к. 309
END:VEVENT
BEGIN:VEVENT
UID:ly6p@192.168.245.71:3006
SEQUENCE:0
DTSTAMP:20260421T035240Z
DTSTART:20260331T110000Z
DTEND:20260331T124000Z
SUMMARY:Системы управления базами данных
LOCATION:11 к. 315
END:VEVENT
BEGIN:VEVENT
UID:9mwr@192.168.245.71:3006
SEQUENCE:0
DTSTAMP:20260421T035240Z
DTSTART:20260331T130000Z
DTEND:20260331T144000Z
SUMMARY:Математическая логика и теория алгоритмов
LOCATION:3 к. 307
END:VEVENT
BEGIN:VEVENT
UID:aq8o@192.168.245.71:3006
SEQUENCE:0
DTSTAMP:20260421T035240Z
DTSTART:20260402T070000Z
DTEND:20260402T084000Z
SUMMARY:Системы управления базами данных
LOCATION:ГЗ 175
END:VEVENT
BEGIN:VEVENT
UID:s761@192.168.245.71:3006
SEQUENCE:0
DTSTAMP:20260421T035240Z
DTSTART:20260402T090000Z
DTEND:20260402T104000Z
SUMMARY:Системы управления базами данных
LOCATION:ГЗ 175
END:VEVENT
BEGIN:VEVENT
UID:85uo@192.168.245.71:3006
SEQUENCE:0
DTSTAMP:20260421T035240Z
DTSTART:20260402T110000Z
DTEND:20260402T124000Z
SUMMARY:Системы управления базами данных
LOCATION:ГЗ 175
END:VEVENT
BEGIN:VEVENT
UID:9flb@192.168.245.71:3006
SEQUENCE:0
DTSTAMP:20260421T035240Z
DTSTART:20260402T130000Z
DTEND:20260402T144000Z
SUMMARY:Системы управления базами данных
LOCATION:ГЗ 175
END:VEVENT
END:VCALENDAR