BEGIN:VCALENDAR
VERSION:2.0
PRODID:-//spbstu.ru//ical//RU
NAME:Расписание
X-WR-CALNAME:Расписание
TIMEZONE-ID:Europe/Moscow
X-WR-TIMEZONE:Europe/Moscow
BEGIN:VEVENT
UID:0fwp@192.168.245.71:3006
SEQUENCE:0
DTSTAMP:20260420T124923Z
DTSTART:20251106T150000Z
DTEND:20251106T164000Z
SUMMARY:Разработка прикладных решений в машинном обучении
LOCATION:50 уч.к 1103
END:VEVENT
BEGIN:VEVENT
UID:8be0@192.168.245.71:3006
SEQUENCE:0
DTSTAMP:20260420T124923Z
DTSTART:20251106T170000Z
DTEND:20251106T184000Z
SUMMARY:Разработка прикладных решений в машинном обучении
LOCATION:50 уч.к 1103
END:VEVENT
BEGIN:VEVENT
UID:48kx@192.168.245.71:3006
SEQUENCE:0
DTSTAMP:20260420T124923Z
DTSTART:20251107T130000Z
DTEND:20251107T144000Z
SUMMARY:Управление конфигурацией программного обеспечения
LOCATION:50 уч.к 1205
END:VEVENT
BEGIN:VEVENT
UID:6usy@192.168.245.71:3006
SEQUENCE:0
DTSTAMP:20260420T124923Z
DTSTART:20251107T150000Z
DTEND:20251107T164000Z
SUMMARY:Управление конфигурацией программного обеспечения
LOCATION:50 уч.к 1205
END:VEVENT
BEGIN:VEVENT
UID:r5un@192.168.245.71:3006
SEQUENCE:0
DTSTAMP:20260420T124923Z
DTSTART:20251107T170000Z
DTEND:20251107T184000Z
SUMMARY:Машинное обучение
LOCATION:50 уч.к 1205
END:VEVENT
BEGIN:VEVENT
UID:20qo@192.168.245.71:3006
SEQUENCE:0
DTSTAMP:20260420T124923Z
DTSTART:20251108T110000Z
DTEND:20251108T124000Z
SUMMARY:Разработка прикладных решений в машинном обучении
LOCATION:DL Дистанционно
END:VEVENT
BEGIN:VEVENT
UID:q2yx@192.168.245.71:3006
SEQUENCE:0
DTSTAMP:20260420T124923Z
DTSTART:20251108T130000Z
DTEND:20251108T144000Z
SUMMARY:Разработка прикладных решений в машинном обучении
LOCATION:DL Дистанционно
END:VEVENT
END:VCALENDAR