BEGIN:VCALENDAR
VERSION:2.0
PRODID:-//spbstu.ru//ical//RU
NAME:Расписание
X-WR-CALNAME:Расписание
TIMEZONE-ID:Europe/Moscow
X-WR-TIMEZONE:Europe/Moscow
BEGIN:VEVENT
UID:jcrf@192.168.245.71:3006
SEQUENCE:0
DTSTAMP:20260421T003352Z
DTSTART:20250922T153000Z
DTEND:20250922T164000Z
SUMMARY:Машинное обучение
LOCATION:50 уч.к 21102
END:VEVENT
BEGIN:VEVENT
UID:y9ll@192.168.245.71:3006
SEQUENCE:0
DTSTAMP:20260421T003352Z
DTSTART:20250925T150000Z
DTEND:20250925T164000Z
SUMMARY:Разработка прикладных решений в машинном обучении
LOCATION:50 уч.к 1103
END:VEVENT
BEGIN:VEVENT
UID:6jn5@192.168.245.71:3006
SEQUENCE:0
DTSTAMP:20260421T003352Z
DTSTART:20250925T170000Z
DTEND:20250925T184000Z
SUMMARY:Разработка прикладных решений в машинном обучении
LOCATION:50 уч.к 1103
END:VEVENT
BEGIN:VEVENT
UID:g9aa@192.168.245.71:3006
SEQUENCE:0
DTSTAMP:20260421T003352Z
DTSTART:20250926T150000Z
DTEND:20250926T164000Z
SUMMARY:Разработка прикладных решений в машинном обучении
LOCATION:50 уч.к 1214
END:VEVENT
BEGIN:VEVENT
UID:4de1@192.168.245.71:3006
SEQUENCE:0
DTSTAMP:20260421T003352Z
DTSTART:20250926T170000Z
DTEND:20250926T184000Z
SUMMARY:Разработка прикладных решений в машинном обучении
LOCATION:50 уч.к 1214
END:VEVENT
END:VCALENDAR