BEGIN:VCALENDAR
VERSION:2.0
PRODID:-//spbstu.ru//ical//RU
NAME:Расписание
X-WR-CALNAME:Расписание
TIMEZONE-ID:Europe/Moscow
X-WR-TIMEZONE:Europe/Moscow
BEGIN:VEVENT
UID:2zzy@192.168.245.71:3006
SEQUENCE:0
DTSTAMP:20260420T210532Z
DTSTART:20251002T130000Z
DTEND:20251002T144000Z
SUMMARY:Машинное обучение
LOCATION:50 уч.к 1211
END:VEVENT
BEGIN:VEVENT
UID:rjn5@192.168.245.71:3006
SEQUENCE:0
DTSTAMP:20260420T210532Z
DTSTART:20251002T150000Z
DTEND:20251002T164000Z
SUMMARY:Машинное обучение
LOCATION:50 уч.к 1211
END:VEVENT
BEGIN:VEVENT
UID:n8c3@192.168.245.71:3006
SEQUENCE:0
DTSTAMP:20260420T210532Z
DTSTART:20251002T170000Z
DTEND:20251002T184000Z
SUMMARY:Машинное обучение
LOCATION:50 уч.к 1113
END:VEVENT
BEGIN:VEVENT
UID:yaxq@192.168.245.71:3006
SEQUENCE:0
DTSTAMP:20260420T210532Z
DTSTART:20251003T150000Z
DTEND:20251003T164000Z
SUMMARY:Управление конфигурацией программного обеспечения
LOCATION:50 уч.к 1427
END:VEVENT
BEGIN:VEVENT
UID:66ql@192.168.245.71:3006
SEQUENCE:0
DTSTAMP:20260420T210532Z
DTSTART:20251003T170000Z
DTEND:20251003T184000Z
SUMMARY:Машинное обучение
LOCATION:50 уч.к 1427
END:VEVENT
BEGIN:VEVENT
UID:npqb@192.168.245.71:3006
SEQUENCE:0
DTSTAMP:20260420T210532Z
DTSTART:20251004T070000Z
DTEND:20251004T084000Z
SUMMARY:Управление конфигурацией программного обеспечения
LOCATION:DL Дистанционно
END:VEVENT
BEGIN:VEVENT
UID:5hl0@192.168.245.71:3006
SEQUENCE:0
DTSTAMP:20260420T210532Z
DTSTART:20251004T090000Z
DTEND:20251004T104000Z
SUMMARY:Управление конфигурацией программного обеспечения
LOCATION:DL Дистанционно
END:VEVENT
END:VCALENDAR