BEGIN:VCALENDAR
VERSION:2.0
PRODID:-//spbstu.ru//ical//RU
NAME:Расписание
X-WR-CALNAME:Расписание
TIMEZONE-ID:Europe/Moscow
X-WR-TIMEZONE:Europe/Moscow
BEGIN:VEVENT
UID:ouet@192.168.245.71:3006
SEQUENCE:0
DTSTAMP:20260421T024727Z
DTSTART:20260421T110000Z
DTEND:20260421T143000Z
SUMMARY:Устройства СВЧ и антенны
LOCATION:2 к. 234
END:VEVENT
BEGIN:VEVENT
UID:vjcv@192.168.245.71:3006
SEQUENCE:0
DTSTAMP:20260421T024727Z
DTSTART:20260423T070000Z
DTEND:20260423T084000Z
SUMMARY:Радиоастрономические методы и аппаратура
LOCATION:2 к. 257
END:VEVENT
BEGIN:VEVENT
UID:0zko@192.168.245.71:3006
SEQUENCE:0
DTSTAMP:20260421T024727Z
DTSTART:20260423T090000Z
DTEND:20260423T104000Z
SUMMARY:Экспериментальные методы исследования
LOCATION:2 к. 352
END:VEVENT
BEGIN:VEVENT
UID:ki58@192.168.245.71:3006
SEQUENCE:0
DTSTAMP:20260421T024727Z
DTSTART:20260423T130000Z
DTEND:20260423T144000Z
SUMMARY:Математическое моделирование в радиофизике
LOCATION:2 к. 257
END:VEVENT
BEGIN:VEVENT
UID:dx9i@192.168.245.71:3006
SEQUENCE:0
DTSTAMP:20260421T024727Z
DTSTART:20260424T090000Z
DTEND:20260424T104000Z
SUMMARY:Обработка оптоинформационных сигналов
LOCATION:2 к. 257
END:VEVENT
END:VCALENDAR