BEGIN:VCALENDAR
VERSION:2.0
PRODID:-//spbstu.ru//ical//RU
NAME:Расписание
X-WR-CALNAME:Расписание
TIMEZONE-ID:Europe/Moscow
X-WR-TIMEZONE:Europe/Moscow
BEGIN:VEVENT
UID:4yei@192.168.245.71:3006
SEQUENCE:0
DTSTAMP:20260421T043349Z
DTSTART:20260430T070000Z
DTEND:20260430T084000Z
SUMMARY:Радиоастрономические методы и аппаратура
LOCATION:2 к. 257
END:VEVENT
BEGIN:VEVENT
UID:gyay@192.168.245.71:3006
SEQUENCE:0
DTSTAMP:20260421T043349Z
DTSTART:20260430T090000Z
DTEND:20260430T104000Z
SUMMARY:Экспериментальные методы исследования
LOCATION:2 к. 352
END:VEVENT
BEGIN:VEVENT
UID:tkej@192.168.245.71:3006
SEQUENCE:0
DTSTAMP:20260421T043349Z
DTSTART:20260430T130000Z
DTEND:20260430T144000Z
SUMMARY:Математическое моделирование в радиофизике
LOCATION:2 к. 257
END:VEVENT
END:VCALENDAR