BEGIN:VCALENDAR
VERSION:2.0
PRODID:-//spbstu.ru//ical//RU
NAME:Расписание
X-WR-CALNAME:Расписание
TIMEZONE-ID:Europe/Moscow
X-WR-TIMEZONE:Europe/Moscow
BEGIN:VEVENT
UID:aoh9@192.168.245.71:3006
SEQUENCE:0
DTSTAMP:20260424T090247Z
DTSTART:20251124T130000Z
DTEND:20251124T144000Z
SUMMARY:Инженерная гидрология и метеорология
LOCATION:ГК-2 507
END:VEVENT
BEGIN:VEVENT
UID:4tnq@192.168.245.71:3006
SEQUENCE:0
DTSTAMP:20260424T090247Z
DTSTART:20251125T130000Z
DTEND:20251125T144000Z
SUMMARY:История архитектуры и перспективы развития городов
LOCATION:ГК-2 301а
END:VEVENT
BEGIN:VEVENT
UID:fnqj@192.168.245.71:3006
SEQUENCE:0
DTSTAMP:20260424T090247Z
DTSTART:20251126T070000Z
DTEND:20251126T084000Z
SUMMARY:Инженерная гидрология и метеорология
LOCATION:ГК-2 301а
END:VEVENT
BEGIN:VEVENT
UID:6udp@192.168.245.71:3006
SEQUENCE:0
DTSTAMP:20260424T090247Z
DTSTART:20251126T110000Z
DTEND:20251126T124000Z
SUMMARY:Инженерное благоустройство устойчивой городской среды
LOCATION:ГК-2 305
END:VEVENT
BEGIN:VEVENT
UID:ping@192.168.245.71:3006
SEQUENCE:0
DTSTAMP:20260424T090247Z
DTSTART:20251127T110000Z
DTEND:20251127T124000Z
SUMMARY:Гидротехнические узлы машинного водоподъема
LOCATION:ГК-2 301а
END:VEVENT
BEGIN:VEVENT
UID:jayv@192.168.245.71:3006
SEQUENCE:0
DTSTAMP:20260424T090247Z
DTSTART:20251128T090000Z
DTEND:20251128T104000Z
SUMMARY:Инженерная гидрология и метеорология
LOCATION:ГК-2 304
END:VEVENT
BEGIN:VEVENT
UID:wjy6@192.168.245.71:3006
SEQUENCE:0
DTSTAMP:20260424T090247Z
DTSTART:20251128T110000Z
DTEND:20251128T124000Z
SUMMARY:Инженерная гидрология и метеорология
LOCATION:ГК-2 301а
END:VEVENT
BEGIN:VEVENT
UID:35dp@192.168.245.71:3006
SEQUENCE:0
DTSTAMP:20260424T090247Z
DTSTART:20251128T130000Z
DTEND:20251128T144000Z
SUMMARY:Инженерная гидрология и метеорология
LOCATION:ГК-2 301а
END:VEVENT
END:VCALENDAR