BEGIN:VCALENDAR
VERSION:2.0
PRODID:-//spbstu.ru//ical//RU
NAME:Расписание
X-WR-CALNAME:Расписание
TIMEZONE-ID:Europe/Moscow
X-WR-TIMEZONE:Europe/Moscow
BEGIN:VEVENT
UID:qne7@192.168.245.71:3006
SEQUENCE:0
DTSTAMP:20260422T193232Z
DTSTART:20260203T110000Z
DTEND:20260203T124000Z
SUMMARY:Насосы и насосные станции
LOCATION:ГК-2 402
END:VEVENT
BEGIN:VEVENT
UID:zme0@192.168.245.71:3006
SEQUENCE:0
DTSTAMP:20260422T193232Z
DTSTART:20260203T130000Z
DTEND:20260203T144000Z
SUMMARY:Насосы и насосные станции
LOCATION:ГК-2 402
END:VEVENT
BEGIN:VEVENT
UID:3hea@192.168.245.71:3006
SEQUENCE:0
DTSTAMP:20260422T193232Z
DTSTART:20260205T110000Z
DTEND:20260205T124000Z
SUMMARY:Здания и сооружения старой городской застройки
LOCATION:ГК-2 304
END:VEVENT
BEGIN:VEVENT
UID:aq51@192.168.245.71:3006
SEQUENCE:0
DTSTAMP:20260422T193232Z
DTSTART:20260205T130000Z
DTEND:20260205T144000Z
SUMMARY:Здания и сооружения старой городской застройки
LOCATION:ГК-2 304
END:VEVENT
END:VCALENDAR