BEGIN:VCALENDAR
VERSION:2.0
PRODID:-//spbstu.ru//ical//RU
NAME:Расписание
X-WR-CALNAME:Расписание
TIMEZONE-ID:Europe/Moscow
X-WR-TIMEZONE:Europe/Moscow
BEGIN:VEVENT
UID:b92j@192.168.245.71:3006
SEQUENCE:0
DTSTAMP:20260422T081337Z
DTSTART:20260310T110000Z
DTEND:20260310T124000Z
SUMMARY:Насосы и насосные станции
LOCATION:ГК-2 402
END:VEVENT
BEGIN:VEVENT
UID:bjtv@192.168.245.71:3006
SEQUENCE:0
DTSTAMP:20260422T081337Z
DTSTART:20260310T130000Z
DTEND:20260310T144000Z
SUMMARY:Насосы и насосные станции
LOCATION:ГК-2 402
END:VEVENT
END:VCALENDAR