BEGIN:VCALENDAR
VERSION:2.0
PRODID:-//spbstu.ru//ical//RU
NAME:Расписание
X-WR-CALNAME:Расписание
TIMEZONE-ID:Europe/Moscow
X-WR-TIMEZONE:Europe/Moscow
BEGIN:VEVENT
UID:jjgs@192.168.245.71:3006
SEQUENCE:0
DTSTAMP:20260421T134644Z
DTSTART:20260414T110000Z
DTEND:20260414T124000Z
SUMMARY:Насосы и насосные станции
LOCATION:ГК-2 402
END:VEVENT
BEGIN:VEVENT
UID:jlvu@192.168.245.71:3006
SEQUENCE:0
DTSTAMP:20260421T134644Z
DTSTART:20260414T130000Z
DTEND:20260414T144000Z
SUMMARY:Насосы и насосные станции
LOCATION:ГК-2 402
END:VEVENT
BEGIN:VEVENT
UID:robk@192.168.245.71:3006
SEQUENCE:0
DTSTAMP:20260421T134644Z
DTSTART:20260416T110000Z
DTEND:20260416T124000Z
SUMMARY:Здания и сооружения старой городской застройки
LOCATION:ГК-2 304
END:VEVENT
BEGIN:VEVENT
UID:kqza@192.168.245.71:3006
SEQUENCE:0
DTSTAMP:20260421T134644Z
DTSTART:20260416T130000Z
DTEND:20260416T144000Z
SUMMARY:Здания и сооружения старой городской застройки
LOCATION:ГК-2 304
END:VEVENT
END:VCALENDAR