BEGIN:VCALENDAR
VERSION:2.0
PRODID:-//spbstu.ru//ical//RU
NAME:Расписание
X-WR-CALNAME:Расписание
TIMEZONE-ID:Europe/Moscow
X-WR-TIMEZONE:Europe/Moscow
BEGIN:VEVENT
UID:oxsv@192.168.245.71:3006
SEQUENCE:0
DTSTAMP:20260421T221509Z
DTSTART:20260506T110000Z
DTEND:20260506T140000Z
SUMMARY:Насосы и насосные станции
LOCATION:ГК-2 302
END:VEVENT
BEGIN:VEVENT
UID:dw01@192.168.245.71:3006
SEQUENCE:0
DTSTAMP:20260421T221509Z
DTSTART:20260507T110000Z
DTEND:20260507T140000Z
SUMMARY:НИР
LOCATION:ГК-2 302
END:VEVENT
END:VCALENDAR