BEGIN:VCALENDAR
VERSION:2.0
PRODID:-//spbstu.ru//ical//RU
NAME:Расписание
X-WR-CALNAME:Расписание
TIMEZONE-ID:Europe/Moscow
X-WR-TIMEZONE:Europe/Moscow
BEGIN:VEVENT
UID:1e14@192.168.245.71:3006
SEQUENCE:0
DTSTAMP:20260424T080639Z
DTSTART:20251106T110000Z
DTEND:20251106T124000Z
SUMMARY:Теория вероятностей и математическая статистика
LOCATION:ГЗ 235
END:VEVENT
BEGIN:VEVENT
UID:blwj@192.168.245.71:3006
SEQUENCE:0
DTSTAMP:20260424T080639Z
DTSTART:20251106T130000Z
DTEND:20251106T132000Z
SUMMARY:Алгебраические основы криптографии
LOCATION:ГЗ 173
END:VEVENT
BEGIN:VEVENT
UID:46vs@192.168.245.71:3006
SEQUENCE:0
DTSTAMP:20260424T080639Z
DTSTART:20251107T083000Z
DTEND:20251107T085000Z
SUMMARY:Криптографические методы защиты информации
LOCATION:ГЗ 173
END:VEVENT
BEGIN:VEVENT
UID:8j93@192.168.245.71:3006
SEQUENCE:0
DTSTAMP:20260424T080639Z
DTSTART:20251107T110000Z
DTEND:20251107T112000Z
SUMMARY:Научно-исследовательская работа
LOCATION:ГЗ 173
END:VEVENT
BEGIN:VEVENT
UID:49ru@192.168.245.71:3006
SEQUENCE:0
DTSTAMP:20260424T080639Z
DTSTART:20251107T113000Z
DTEND:20251107T115000Z
SUMMARY:Практика по получению профессиональных умений и опыта профессионал
 ьной деятельности
LOCATION:ГЗ 173
END:VEVENT
END:VCALENDAR