BEGIN:VCALENDAR
VERSION:2.0
PRODID:-//spbstu.ru//ical//RU
NAME:Расписание
X-WR-CALNAME:Расписание
TIMEZONE-ID:Europe/Moscow
X-WR-TIMEZONE:Europe/Moscow
BEGIN:VEVENT
UID:56za@192.168.245.71:3006
SEQUENCE:0
DTSTAMP:20260421T065800Z
DTSTART:20260413T110000Z
DTEND:20260413T124000Z
SUMMARY:Криптографические методы защиты информации
LOCATION:ГЗ 224
END:VEVENT
BEGIN:VEVENT
UID:gygp@192.168.245.71:3006
SEQUENCE:0
DTSTAMP:20260421T065800Z
DTSTART:20260413T110000Z
DTEND:20260413T124000Z
SUMMARY:Криптографические методы защиты информации
LOCATION:ГЗ 224
END:VEVENT
BEGIN:VEVENT
UID:1xnb@192.168.245.71:3006
SEQUENCE:0
DTSTAMP:20260421T065800Z
DTSTART:20260413T150000Z
DTEND:20260413T153000Z
SUMMARY:Теоретико-числовые методы в криптографии
LOCATION:ГЗ 173
END:VEVENT
BEGIN:VEVENT
UID:vbov@192.168.245.71:3006
SEQUENCE:0
DTSTAMP:20260421T065800Z
DTSTART:20260414T070000Z
DTEND:20260414T084000Z
SUMMARY:Алгебраические основы криптографии
LOCATION:ГЗ 305
END:VEVENT
BEGIN:VEVENT
UID:nzkv@192.168.245.71:3006
SEQUENCE:0
DTSTAMP:20260421T065800Z
DTSTART:20260414T110000Z
DTEND:20260414T134000Z
SUMMARY:Алгебраические основы криптографии
LOCATION:ГЗ 152
END:VEVENT
BEGIN:VEVENT
UID:791t@192.168.245.71:3006
SEQUENCE:0
DTSTAMP:20260421T065800Z
DTSTART:20260414T133000Z
DTEND:20260414T140000Z
SUMMARY:Научно-исследовательская работа
LOCATION:ГЗ 173
END:VEVENT
BEGIN:VEVENT
UID:ns73@192.168.245.71:3006
SEQUENCE:0
DTSTAMP:20260421T065800Z
DTSTART:20260414T133000Z
DTEND:20260414T140000Z
SUMMARY:Научно-исследовательская работа
LOCATION:ГЗ 173
END:VEVENT
BEGIN:VEVENT
UID:0hqh@192.168.245.71:3006
SEQUENCE:0
DTSTAMP:20260421T065800Z
DTSTART:20260414T133000Z
DTEND:20260414T140000Z
SUMMARY:Научно-исследовательская работа
LOCATION:ГЗ 173
END:VEVENT
BEGIN:VEVENT
UID:0dgc@192.168.245.71:3006
SEQUENCE:0
DTSTAMP:20260421T065800Z
DTSTART:20260414T133000Z
DTEND:20260414T140000Z
SUMMARY:Научно-исследовательская работа
LOCATION:ГЗ 173
END:VEVENT
BEGIN:VEVENT
UID:lqtu@192.168.245.71:3006
SEQUENCE:0
DTSTAMP:20260421T065800Z
DTSTART:20260416T110000Z
DTEND:20260416T124000Z
SUMMARY:Теория вероятностей и математическая статистика
LOCATION:ГЗ 237
END:VEVENT
END:VCALENDAR