BEGIN:VCALENDAR
VERSION:2.0
PRODID:-//spbstu.ru//ical//RU
NAME:Расписание
X-WR-CALNAME:Расписание
TIMEZONE-ID:Europe/Moscow
X-WR-TIMEZONE:Europe/Moscow
BEGIN:VEVENT
UID:5tpz@192.168.245.71:3006
SEQUENCE:0
DTSTAMP:20260425T003405Z
DTSTART:20251014T070000Z
DTEND:20251014T084000Z
SUMMARY:Общая и профессиональная педагогика
LOCATION:9 к. 219
END:VEVENT
BEGIN:VEVENT
UID:6jpv@192.168.245.71:3006
SEQUENCE:0
DTSTAMP:20260425T003405Z
DTSTART:20251014T090000Z
DTEND:20251014T104000Z
SUMMARY:Психолого-педагогический практикум в информационной образовательно
 й среде
LOCATION:9 к. 219
END:VEVENT
BEGIN:VEVENT
UID:ch8i@192.168.245.71:3006
SEQUENCE:0
DTSTAMP:20260425T003405Z
DTSTART:20251014T110000Z
DTEND:20251014T124000Z
SUMMARY:Психолого-педагогический практикум в информационной образовательно
 й среде
LOCATION:9 к. 217
END:VEVENT
BEGIN:VEVENT
UID:ta3m@192.168.245.71:3006
SEQUENCE:0
DTSTAMP:20260425T003405Z
DTSTART:20251014T130000Z
DTEND:20251014T144000Z
SUMMARY:Психолого-педагогический практикум в информационной образовательно
 й среде
LOCATION:9 к. 217
END:VEVENT
BEGIN:VEVENT
UID:8st8@192.168.245.71:3006
SEQUENCE:0
DTSTAMP:20260425T003405Z
DTSTART:20251016T070000Z
DTEND:20251016T084000Z
SUMMARY:Введение в профессиональную деятельность
LOCATION:9 к. 427
END:VEVENT
BEGIN:VEVENT
UID:zgfi@192.168.245.71:3006
SEQUENCE:0
DTSTAMP:20260425T003405Z
DTSTART:20251016T090000Z
DTEND:20251016T104000Z
SUMMARY:Общая и профессиональная педагогика
LOCATION:9 к. 432
END:VEVENT
BEGIN:VEVENT
UID:1668@192.168.245.71:3006
SEQUENCE:0
DTSTAMP:20260425T003405Z
DTSTART:20251017T090000Z
DTEND:20251017T104000Z
SUMMARY:Введение в профессиональную деятельность
LOCATION:9 к. 523
END:VEVENT
BEGIN:VEVENT
UID:q6a6@192.168.245.71:3006
SEQUENCE:0
DTSTAMP:20260425T003405Z
DTSTART:20251017T110000Z
DTEND:20251017T124000Z
SUMMARY:Введение в профессиональную деятельность
LOCATION:9 к. 319
END:VEVENT
END:VCALENDAR