BEGIN:VCALENDAR
VERSION:2.0
PRODID:-//spbstu.ru//ical//RU
NAME:Расписание
X-WR-CALNAME:Расписание
TIMEZONE-ID:Europe/Moscow
X-WR-TIMEZONE:Europe/Moscow
BEGIN:VEVENT
UID:m363@192.168.245.71:3006
SEQUENCE:0
DTSTAMP:20260421T092120Z
DTSTART:20260330T110000Z
DTEND:20260330T124000Z
SUMMARY:История и современные аспекты педагогической науки
LOCATION:ГЗ 221
END:VEVENT
BEGIN:VEVENT
UID:o13k@192.168.245.71:3006
SEQUENCE:0
DTSTAMP:20260421T092120Z
DTSTART:20260331T130000Z
DTEND:20260331T140000Z
SUMMARY:Ознакомительная практика
LOCATION:9 к. 319
END:VEVENT
BEGIN:VEVENT
UID:lkqj@192.168.245.71:3006
SEQUENCE:0
DTSTAMP:20260421T092120Z
DTSTART:20260401T070000Z
DTEND:20260401T084000Z
SUMMARY:Психолого-педагогическое сопровождение в образовании
LOCATION:9 к. 315
END:VEVENT
BEGIN:VEVENT
UID:jtjp@192.168.245.71:3006
SEQUENCE:0
DTSTAMP:20260421T092120Z
DTSTART:20260401T090000Z
DTEND:20260401T104000Z
SUMMARY:Психолого-педагогическое сопровождение в образовании
LOCATION:9 к. 325
END:VEVENT
BEGIN:VEVENT
UID:ote7@192.168.245.71:3006
SEQUENCE:0
DTSTAMP:20260421T092120Z
DTSTART:20260401T110000Z
DTEND:20260401T124000Z
SUMMARY:Психолого-педагогическое сопровождение в образовании
LOCATION:9 к. 217
END:VEVENT
BEGIN:VEVENT
UID:ktzc@192.168.245.71:3006
SEQUENCE:0
DTSTAMP:20260421T092120Z
DTSTART:20260401T130000Z
DTEND:20260401T144000Z
SUMMARY:Психолого-педагогическое сопровождение в образовании
LOCATION:9 к. 217
END:VEVENT
BEGIN:VEVENT
UID:l4iq@192.168.245.71:3006
SEQUENCE:0
DTSTAMP:20260421T092120Z
DTSTART:20260402T110000Z
DTEND:20260402T124000Z
SUMMARY:Психолого-педагогическое сопровождение в образовании
LOCATION:9 к. 208
END:VEVENT
BEGIN:VEVENT
UID:w1rn@192.168.245.71:3006
SEQUENCE:0
DTSTAMP:20260421T092120Z
DTSTART:20260402T150000Z
DTEND:20260402T164000Z
SUMMARY:Научно-исследовательская работа (рассредоточенная)
LOCATION:9 к. 325
END:VEVENT
BEGIN:VEVENT
UID:l0ej@192.168.245.71:3006
SEQUENCE:0
DTSTAMP:20260421T092120Z
DTSTART:20260402T150000Z
DTEND:20260402T160000Z
SUMMARY:Введение в языкознание
LOCATION:9 к. 325
END:VEVENT
END:VCALENDAR