BEGIN:VCALENDAR
VERSION:2.0
PRODID:-//spbstu.ru//ical//RU
NAME:Расписание
X-WR-CALNAME:Расписание
TIMEZONE-ID:Europe/Moscow
X-WR-TIMEZONE:Europe/Moscow
BEGIN:VEVENT
UID:7v4m@192.168.245.71:3006
SEQUENCE:0
DTSTAMP:20260421T072746Z
DTSTART:20260504T110000Z
DTEND:20260504T124000Z
SUMMARY:История и современные аспекты педагогической науки
LOCATION:ГЗ 221
END:VEVENT
END:VCALENDAR