BEGIN:VCALENDAR
VERSION:2.0
PRODID:-//spbstu.ru//ical//RU
NAME:Расписание
X-WR-CALNAME:Расписание
TIMEZONE-ID:Europe/Moscow
X-WR-TIMEZONE:Europe/Moscow
BEGIN:VEVENT
UID:6s9y@192.168.245.71:3006
SEQUENCE:0
DTSTAMP:20260424T135237Z
DTSTART:20251015T110000Z
DTEND:20251015T124000Z
SUMMARY:Объектно-ориентированное программирование
LOCATION:ГЗ 171
END:VEVENT
BEGIN:VEVENT
UID:9axa@192.168.245.71:3006
SEQUENCE:0
DTSTAMP:20260424T135237Z
DTSTART:20251015T130000Z
DTEND:20251015T144000Z
SUMMARY:Объектно-ориентированное программирование
LOCATION:ГЗ 171
END:VEVENT
BEGIN:VEVENT
UID:7oh5@192.168.245.71:3006
SEQUENCE:0
DTSTAMP:20260424T135237Z
DTSTART:20251017T070000Z
DTEND:20251017T084000Z
SUMMARY:Объектно-ориентированное программирование
LOCATION:3 к. 206
END:VEVENT
BEGIN:VEVENT
UID:129c@192.168.245.71:3006
SEQUENCE:0
DTSTAMP:20260424T135237Z
DTSTART:20251017T090000Z
DTEND:20251017T104000Z
SUMMARY:Объектно-ориентированное программирование
LOCATION:3 к. 205
END:VEVENT
BEGIN:VEVENT
UID:az1j@192.168.245.71:3006
SEQUENCE:0
DTSTAMP:20260424T135237Z
DTSTART:20251017T130000Z
DTEND:20251017T144000Z
SUMMARY:Объектно-ориентированное программирование
LOCATION:3 к. 207
END:VEVENT
END:VCALENDAR