BEGIN:VCALENDAR
VERSION:2.0
PRODID:-//spbstu.ru//ical//RU
NAME:Расписание
X-WR-CALNAME:Расписание
TIMEZONE-ID:Europe/Moscow
X-WR-TIMEZONE:Europe/Moscow
BEGIN:VEVENT
UID:ieiz@192.168.245.71:3006
SEQUENCE:0
DTSTAMP:20260425T012022Z
DTSTART:20250910T110000Z
DTEND:20250910T124000Z
SUMMARY:Объектно-ориентированное программирование
LOCATION:ГЗ 171
END:VEVENT
BEGIN:VEVENT
UID:aahm@192.168.245.71:3006
SEQUENCE:0
DTSTAMP:20260425T012022Z
DTSTART:20250910T130000Z
DTEND:20250910T144000Z
SUMMARY:Объектно-ориентированное программирование
LOCATION:ГЗ 171
END:VEVENT
BEGIN:VEVENT
UID:mmnw@192.168.245.71:3006
SEQUENCE:0
DTSTAMP:20260425T012022Z
DTSTART:20250912T070000Z
DTEND:20250912T084000Z
SUMMARY:Объектно-ориентированное программирование
LOCATION:3 к. 206
END:VEVENT
BEGIN:VEVENT
UID:87w3@192.168.245.71:3006
SEQUENCE:0
DTSTAMP:20260425T012022Z
DTSTART:20250912T090000Z
DTEND:20250912T104000Z
SUMMARY:Объектно-ориентированное программирование
LOCATION:3 к. 205
END:VEVENT
BEGIN:VEVENT
UID:xrbl@192.168.245.71:3006
SEQUENCE:0
DTSTAMP:20260425T012022Z
DTSTART:20250912T130000Z
DTEND:20250912T144000Z
SUMMARY:Объектно-ориентированное программирование
LOCATION:3 к. 207
END:VEVENT
END:VCALENDAR