BEGIN:VCALENDAR
VERSION:2.0
PRODID:-//spbstu.ru//ical//RU
NAME:Расписание
X-WR-CALNAME:Расписание
TIMEZONE-ID:Europe/Moscow
X-WR-TIMEZONE:Europe/Moscow
BEGIN:VEVENT
UID:1ykz@192.168.245.71:3006
SEQUENCE:0
DTSTAMP:20260421T221526Z
DTSTART:20260202T110000Z
DTEND:20260202T124000Z
SUMMARY:Цифровая аналитика
LOCATION:ГЗ 175
END:VEVENT
BEGIN:VEVENT
UID:bax0@192.168.245.71:3006
SEQUENCE:0
DTSTAMP:20260421T221526Z
DTSTART:20260202T130000Z
DTEND:20260202T144000Z
SUMMARY:Цифровая аналитика
LOCATION:ГЗ 175
END:VEVENT
BEGIN:VEVENT
UID:3eu9@192.168.245.71:3006
SEQUENCE:0
DTSTAMP:20260421T221526Z
DTSTART:20260203T070000Z
DTEND:20260203T084000Z
SUMMARY:Цифровая аналитика
LOCATION:11 к. 332
END:VEVENT
BEGIN:VEVENT
UID:v1sx@192.168.245.71:3006
SEQUENCE:0
DTSTAMP:20260421T221526Z
DTSTART:20260203T090000Z
DTEND:20260203T104000Z
SUMMARY:Цифровая аналитика
LOCATION:11 к. 332
END:VEVENT
BEGIN:VEVENT
UID:9kk9@192.168.245.71:3006
SEQUENCE:0
DTSTAMP:20260421T221526Z
DTSTART:20260203T110000Z
DTEND:20260203T124000Z
SUMMARY:Технологии разработки современного программного обеспечения
LOCATION:3 к. 310
END:VEVENT
BEGIN:VEVENT
UID:6s8v@192.168.245.71:3006
SEQUENCE:0
DTSTAMP:20260421T221526Z
DTSTART:20260203T130000Z
DTEND:20260203T144000Z
SUMMARY:Технологии разработки современного программного обеспечения
LOCATION:3 к. 310
END:VEVENT
BEGIN:VEVENT
UID:tsha@192.168.245.71:3006
SEQUENCE:0
DTSTAMP:20260421T221526Z
DTSTART:20260206T070000Z
DTEND:20260206T084000Z
SUMMARY:Цифровая аналитика
LOCATION:11 к. 336
END:VEVENT
BEGIN:VEVENT
UID:i8gy@192.168.245.71:3006
SEQUENCE:0
DTSTAMP:20260421T221526Z
DTSTART:20260206T090000Z
DTEND:20260206T104000Z
SUMMARY:Цифровая аналитика
LOCATION:11 к. 336
END:VEVENT
END:VCALENDAR