BEGIN:VCALENDAR
VERSION:2.0
PRODID:-//spbstu.ru//ical//RU
NAME:Расписание
X-WR-CALNAME:Расписание
TIMEZONE-ID:Europe/Moscow
X-WR-TIMEZONE:Europe/Moscow
BEGIN:VEVENT
UID:8td7@192.168.245.71:3006
SEQUENCE:0
DTSTAMP:20260425T031605Z
DTSTART:20251006T110000Z
DTEND:20251006T124000Z
SUMMARY:Моделирование физических задач в среде MATLAB
LOCATION:1 к. 428
END:VEVENT
BEGIN:VEVENT
UID:u6mn@192.168.245.71:3006
SEQUENCE:0
DTSTAMP:20260425T031605Z
DTSTART:20251006T130000Z
DTEND:20251006T144000Z
SUMMARY:Моделирование физических задач в среде MATLAB
LOCATION:1 к. 428
END:VEVENT
BEGIN:VEVENT
UID:vq7b@192.168.245.71:3006
SEQUENCE:0
DTSTAMP:20260425T031605Z
DTSTART:20251010T070000Z
DTEND:20251010T084000Z
SUMMARY:Лабораторный практикум по физике и технологии наноструктур
LOCATION:2 к. кафедра
END:VEVENT
BEGIN:VEVENT
UID:ji8l@192.168.245.71:3006
SEQUENCE:0
DTSTAMP:20260425T031605Z
DTSTART:20251010T090000Z
DTEND:20251010T104000Z
SUMMARY:Лабораторный практикум по физике и технологии наноструктур
LOCATION:2 к. кафедра
END:VEVENT
BEGIN:VEVENT
UID:a3u2@192.168.245.71:3006
SEQUENCE:0
DTSTAMP:20260425T031605Z
DTSTART:20251010T110000Z
DTEND:20251010T124000Z
SUMMARY:Лабораторный практикум по физике и технологии наноструктур
LOCATION:2 к. кафедра
END:VEVENT
BEGIN:VEVENT
UID:ya7o@192.168.245.71:3006
SEQUENCE:0
DTSTAMP:20260425T031605Z
DTSTART:20251011T070000Z
DTEND:20251011T084000Z
SUMMARY:Моделирование физических задач в среде MATLAB
LOCATION:2 к. кафедра
END:VEVENT
END:VCALENDAR