BEGIN:VCALENDAR
VERSION:2.0
PRODID:-//spbstu.ru//ical//RU
NAME:Расписание
X-WR-CALNAME:Расписание
TIMEZONE-ID:Europe/Moscow
X-WR-TIMEZONE:Europe/Moscow
BEGIN:VEVENT
UID:m4ol@192.168.245.71:3006
SEQUENCE:0
DTSTAMP:20260421T200714Z
DTSTART:20260226T140000Z
DTEND:20260226T154000Z
SUMMARY:Основы проектной деятельности
LOCATION:DL Дистанционно
END:VEVENT
BEGIN:VEVENT
UID:wmfg@192.168.245.71:3006
SEQUENCE:0
DTSTAMP:20260421T200714Z
DTSTART:20260227T070000Z
DTEND:20260227T084000Z
SUMMARY:Лабораторный практикум по физике и технологии наноструктур
LOCATION:2 к. кафедра
END:VEVENT
BEGIN:VEVENT
UID:yn7g@192.168.245.71:3006
SEQUENCE:0
DTSTAMP:20260421T200714Z
DTSTART:20260227T090000Z
DTEND:20260227T104000Z
SUMMARY:Лабораторный практикум по физике и технологии наноструктур
LOCATION:2 к. кафедра
END:VEVENT
END:VCALENDAR