BEGIN:VCALENDAR
VERSION:2.0
PRODID:-//spbstu.ru//ical//RU
NAME:Расписание
X-WR-CALNAME:Расписание
TIMEZONE-ID:Europe/Moscow
X-WR-TIMEZONE:Europe/Moscow
BEGIN:VEVENT
UID:63c7@192.168.245.71:3006
SEQUENCE:0
DTSTAMP:20260421T182244Z
DTSTART:20260305T140000Z
DTEND:20260305T154000Z
SUMMARY:Основы проектной деятельности
LOCATION:DL Дистанционно
END:VEVENT
BEGIN:VEVENT
UID:hfmp@192.168.245.71:3006
SEQUENCE:0
DTSTAMP:20260421T182244Z
DTSTART:20260306T070000Z
DTEND:20260306T084000Z
SUMMARY:Лабораторный практикум по физике и технологии наноструктур
LOCATION:2 к. кафедра
END:VEVENT
BEGIN:VEVENT
UID:2vep@192.168.245.71:3006
SEQUENCE:0
DTSTAMP:20260421T182244Z
DTSTART:20260306T090000Z
DTEND:20260306T104000Z
SUMMARY:Лабораторный практикум по физике и технологии наноструктур
LOCATION:2 к. кафедра
END:VEVENT
END:VCALENDAR