BEGIN:VCALENDAR
VERSION:2.0
PRODID:-//spbstu.ru//ical//RU
NAME:Расписание
X-WR-CALNAME:Расписание
TIMEZONE-ID:Europe/Moscow
X-WR-TIMEZONE:Europe/Moscow
BEGIN:VEVENT
UID:5jqv@192.168.245.71:3006
SEQUENCE:0
DTSTAMP:20260421T132510Z
DTSTART:20260313T070000Z
DTEND:20260313T084000Z
SUMMARY:Лабораторный практикум по физике и технологии наноструктур
LOCATION:2 к. кафедра
END:VEVENT
BEGIN:VEVENT
UID:7j9b@192.168.245.71:3006
SEQUENCE:0
DTSTAMP:20260421T132510Z
DTSTART:20260313T090000Z
DTEND:20260313T104000Z
SUMMARY:Лабораторный практикум по физике и технологии наноструктур
LOCATION:2 к. кафедра
END:VEVENT
END:VCALENDAR