BEGIN:VCALENDAR
VERSION:2.0
PRODID:-//spbstu.ru//ical//RU
NAME:Расписание
X-WR-CALNAME:Расписание
TIMEZONE-ID:Europe/Moscow
X-WR-TIMEZONE:Europe/Moscow
BEGIN:VEVENT
UID:q0uk@192.168.245.71:3006
SEQUENCE:0
DTSTAMP:20260424T012727Z
DTSTART:20251021T090000Z
DTEND:20251021T104000Z
SUMMARY:Введение в профессиональную деятельность
LOCATION:ГК 316
END:VEVENT
BEGIN:VEVENT
UID:8x6c@192.168.245.71:3006
SEQUENCE:0
DTSTAMP:20260424T012727Z
DTSTART:20251021T110000Z
DTEND:20251021T124000Z
SUMMARY:Гигиена труда и производственная санитария
LOCATION:ГК 316
END:VEVENT
BEGIN:VEVENT
UID:kvd0@192.168.245.71:3006
SEQUENCE:0
DTSTAMP:20260424T012727Z
DTSTART:20251022T110000Z
DTEND:20251022T124000Z
SUMMARY:Введение в профессиональную деятельность
LOCATION:ГК 439
END:VEVENT
BEGIN:VEVENT
UID:pai1@192.168.245.71:3006
SEQUENCE:0
DTSTAMP:20260424T012727Z
DTSTART:20251024T090000Z
DTEND:20251024T104000Z
SUMMARY:Гигиена труда и производственная санитария
LOCATION:ГК 439
END:VEVENT
BEGIN:VEVENT
UID:rp81@192.168.245.71:3006
SEQUENCE:0
DTSTAMP:20260424T012727Z
DTSTART:20251024T110000Z
DTEND:20251024T124000Z
SUMMARY:Гигиена труда и производственная санитария
LOCATION:ГК 439
END:VEVENT
BEGIN:VEVENT
UID:g2eh@192.168.245.71:3006
SEQUENCE:0
DTSTAMP:20260424T012727Z
DTSTART:20251024T130000Z
DTEND:20251024T144000Z
SUMMARY:Оценка эффективности средств индивидуальной защиты
LOCATION:ГК 439
END:VEVENT
END:VCALENDAR