BEGIN:VCALENDAR
VERSION:2.0
PRODID:-//spbstu.ru//ical//RU
NAME:Расписание
X-WR-CALNAME:Расписание
TIMEZONE-ID:Europe/Moscow
X-WR-TIMEZONE:Europe/Moscow
BEGIN:VEVENT
UID:a72l@192.168.245.71:3006
SEQUENCE:0
DTSTAMP:20260423T002228Z
DTSTART:20251202T090000Z
DTEND:20251202T104000Z
SUMMARY:Введение в профессиональную деятельность
LOCATION:ГК 316
END:VEVENT
BEGIN:VEVENT
UID:nq7n@192.168.245.71:3006
SEQUENCE:0
DTSTAMP:20260423T002228Z
DTSTART:20251202T110000Z
DTEND:20251202T124000Z
SUMMARY:Гигиена труда и производственная санитария
LOCATION:ГК 316
END:VEVENT
BEGIN:VEVENT
UID:vid7@192.168.245.71:3006
SEQUENCE:0
DTSTAMP:20260423T002228Z
DTSTART:20251203T110000Z
DTEND:20251203T124000Z
SUMMARY:Введение в профессиональную деятельность
LOCATION:ГК 439
END:VEVENT
BEGIN:VEVENT
UID:2skj@192.168.245.71:3006
SEQUENCE:0
DTSTAMP:20260423T002228Z
DTSTART:20251205T090000Z
DTEND:20251205T104000Z
SUMMARY:Гигиена труда и производственная санитария
LOCATION:ГК 439
END:VEVENT
BEGIN:VEVENT
UID:2a3h@192.168.245.71:3006
SEQUENCE:0
DTSTAMP:20260423T002228Z
DTSTART:20251205T110000Z
DTEND:20251205T124000Z
SUMMARY:Гигиена труда и производственная санитария
LOCATION:ГК 439
END:VEVENT
BEGIN:VEVENT
UID:f3lw@192.168.245.71:3006
SEQUENCE:0
DTSTAMP:20260423T002228Z
DTSTART:20251205T130000Z
DTEND:20251205T144000Z
SUMMARY:Оценка эффективности средств индивидуальной защиты
LOCATION:ГК 439
END:VEVENT
END:VCALENDAR