BEGIN:VCALENDAR
VERSION:2.0
PRODID:-//spbstu.ru//ical//RU
NAME:Расписание
X-WR-CALNAME:Расписание
TIMEZONE-ID:Europe/Moscow
X-WR-TIMEZONE:Europe/Moscow
BEGIN:VEVENT
UID:qcr8@192.168.245.71:3006
SEQUENCE:0
DTSTAMP:20260421T070307Z
DTSTART:20260331T070000Z
DTEND:20260331T084000Z
SUMMARY:Безопасность жизнедеятельности
LOCATION:ГК 119
END:VEVENT
BEGIN:VEVENT
UID:zfyx@192.168.245.71:3006
SEQUENCE:0
DTSTAMP:20260421T070307Z
DTSTART:20260331T110000Z
DTEND:20260331T124000Z
SUMMARY:Безопасность жизнедеятельности
LOCATION:ГК 104
END:VEVENT
BEGIN:VEVENT
UID:r76v@192.168.245.71:3006
SEQUENCE:0
DTSTAMP:20260421T070307Z
DTSTART:20260331T130000Z
DTEND:20260331T144000Z
SUMMARY:Безопасность жизнедеятельности
LOCATION:ГК 104
END:VEVENT
END:VCALENDAR