BEGIN:VCALENDAR
VERSION:2.0
PRODID:-//spbstu.ru//ical//RU
NAME:Расписание
X-WR-CALNAME:Расписание
TIMEZONE-ID:Europe/Moscow
X-WR-TIMEZONE:Europe/Moscow
BEGIN:VEVENT
UID:z8fa@192.168.245.71:3006
SEQUENCE:0
DTSTAMP:20260425T133821Z
DTSTART:20250909T070000Z
DTEND:20250909T085000Z
SUMMARY:Обследование зданий и сооружений
LOCATION:ГК-2 205
END:VEVENT
BEGIN:VEVENT
UID:1ibi@192.168.245.71:3006
SEQUENCE:0
DTSTAMP:20260425T133821Z
DTSTART:20250911T070000Z
DTEND:20250911T084000Z
SUMMARY:Спецкурс по строительным материалам  (на английском языке)
LOCATION:ГК-2 410
END:VEVENT
BEGIN:VEVENT
UID:x8gl@192.168.245.71:3006
SEQUENCE:0
DTSTAMP:20260425T133821Z
DTSTART:20250911T090000Z
DTEND:20250911T104000Z
SUMMARY:Спецкурс по строительным материалам  (на английском языке)
LOCATION:ГК-2 410
END:VEVENT
BEGIN:VEVENT
UID:euh2@192.168.245.71:3006
SEQUENCE:0
DTSTAMP:20260425T133821Z
DTSTART:20250911T150000Z
DTEND:20250911T164000Z
SUMMARY:Обследование строительных конструкций (на английском языке)
LOCATION:ГК 123б
END:VEVENT
END:VCALENDAR