BEGIN:VCALENDAR
VERSION:2.0
PRODID:-//spbstu.ru//ical//RU
NAME:Расписание
X-WR-CALNAME:Расписание
TIMEZONE-ID:Europe/Moscow
X-WR-TIMEZONE:Europe/Moscow
BEGIN:VEVENT
UID:p9ug@192.168.245.71:3006
SEQUENCE:0
DTSTAMP:20260424T183836Z
DTSTART:20250925T140000Z
DTEND:20250925T154000Z
SUMMARY:Проектная графика и 3D визуализация
LOCATION:ГЗ 301 А
END:VEVENT
BEGIN:VEVENT
UID:jlch@192.168.245.71:3006
SEQUENCE:0
DTSTAMP:20260424T183836Z
DTSTART:20250925T155000Z
DTEND:20250925T173000Z
SUMMARY:Проектная графика и 3D визуализация
LOCATION:ГЗ 301 А
END:VEVENT
END:VCALENDAR